BEGIN:VCALENDAR
VERSION:2.0
PRODID:-//Implantate aus Koenigsee - ECPv6.15.20//NONSGML v1.0//EN
CALSCALE:GREGORIAN
METHOD:PUBLISH
X-ORIGINAL-URL:https://www.koenigsee-implantate.de
X-WR-CALDESC:Veranstaltungen für Implantate aus Koenigsee
REFRESH-INTERVAL;VALUE=DURATION:PT1H
X-Robots-Tag:noindex
X-PUBLISHED-TTL:PT1H
BEGIN:VTIMEZONE
TZID:Europe/Berlin
BEGIN:DAYLIGHT
TZOFFSETFROM:+0100
TZOFFSETTO:+0200
TZNAME:CEST
DTSTART:20220327T010000
END:DAYLIGHT
BEGIN:STANDARD
TZOFFSETFROM:+0200
TZOFFSETTO:+0100
TZNAME:CET
DTSTART:20221030T010000
END:STANDARD
BEGIN:DAYLIGHT
TZOFFSETFROM:+0100
TZOFFSETTO:+0200
TZNAME:CEST
DTSTART:20230326T010000
END:DAYLIGHT
BEGIN:STANDARD
TZOFFSETFROM:+0200
TZOFFSETTO:+0100
TZNAME:CET
DTSTART:20231029T010000
END:STANDARD
BEGIN:DAYLIGHT
TZOFFSETFROM:+0100
TZOFFSETTO:+0200
TZNAME:CEST
DTSTART:20240331T010000
END:DAYLIGHT
BEGIN:STANDARD
TZOFFSETFROM:+0200
TZOFFSETTO:+0100
TZNAME:CET
DTSTART:20241027T010000
END:STANDARD
END:VTIMEZONE
BEGIN:VEVENT
DTSTART;VALUE=DATE:20231104
DTEND;VALUE=DATE:20231105
DTSTAMP:20260422T121337
CREATED:20230914T115720Z
LAST-MODIFIED:20230914T115720Z
UID:15737-1699056000-1699142399@www.koenigsee-implantate.de
SUMMARY:11. Leipziger Fußdialog
DESCRIPTION:11. Leipziger Fußdialog
URL:https://www.koenigsee-implantate.de/weiterbildung/11-leipziger-fussdialog/
LOCATION:Leipzig
CATEGORIES:Termine
ATTACH;FMTTYPE=image/png:https://www.koenigsee-implantate.de/wp-content/uploads/2022/03/calendar.png
END:VEVENT
BEGIN:VEVENT
DTSTART;VALUE=DATE:20231111
DTEND;VALUE=DATE:20231112
DTSTAMP:20260422T121337
CREATED:20230605T123857Z
LAST-MODIFIED:20230605T124213Z
UID:14559-1699660800-1699747199@www.koenigsee-implantate.de
SUMMARY:7. Jenaer Gelenksymposium
DESCRIPTION:7. Jenaer Gelenksymposium
URL:https://www.koenigsee-implantate.de/weiterbildung/7-jenaer-gelenksymposium/
LOCATION:Jena
CATEGORIES:Termine
ATTACH;FMTTYPE=image/png:https://www.koenigsee-implantate.de/wp-content/uploads/2022/03/calendar.png
END:VEVENT
BEGIN:VEVENT
DTSTART;VALUE=DATE:20231113
DTEND;VALUE=DATE:20231117
DTSTAMP:20260422T121337
CREATED:20230306T080916Z
LAST-MODIFIED:20230605T114055Z
UID:13418-1699833600-1700179199@www.koenigsee-implantate.de
SUMMARY:MEDICA 2023
DESCRIPTION:MEDICA 2023
URL:https://www.koenigsee-implantate.de/weiterbildung/medica-2023/
LOCATION:Düsseldorf
CATEGORIES:Termine
ATTACH;FMTTYPE=image/png:https://www.koenigsee-implantate.de/wp-content/uploads/2022/03/calendar.png
END:VEVENT
BEGIN:VEVENT
DTSTART;VALUE=DATE:20231117
DTEND;VALUE=DATE:20231119
DTSTAMP:20260422T121337
CREATED:20230605T124328Z
LAST-MODIFIED:20230605T124935Z
UID:14562-1700179200-1700351999@www.koenigsee-implantate.de
SUMMARY:12. Jahreskongress der Deutschen Kniegesellschaft
DESCRIPTION:12. Jahreskongress der Deutschen Kniegesellschaft
URL:https://www.koenigsee-implantate.de/weiterbildung/12-jahreskongress-der-deutschen-kniegesellschaft/
LOCATION:Essen
CATEGORIES:Termine
ATTACH;FMTTYPE=image/png:https://www.koenigsee-implantate.de/wp-content/uploads/2022/03/calendar.png
END:VEVENT
BEGIN:VEVENT
DTSTART;VALUE=DATE:20231123
DTEND;VALUE=DATE:20231126
DTSTAMP:20260422T121337
CREATED:20230605T125106Z
LAST-MODIFIED:20230605T125808Z
UID:14566-1700697600-1700956799@www.koenigsee-implantate.de
SUMMARY:DVG-Vet-Congress
DESCRIPTION:DVG-Vet-Congress
URL:https://www.koenigsee-implantate.de/weiterbildung/dvg-vet-congess/
LOCATION:Berlin
CATEGORIES:Termine
ATTACH;FMTTYPE=image/png:https://www.koenigsee-implantate.de/wp-content/uploads/2022/03/calendar.png
END:VEVENT
BEGIN:VEVENT
DTSTART;VALUE=DATE:20231124
DTEND;VALUE=DATE:20231126
DTSTAMP:20260422T121337
CREATED:20230605T125609Z
LAST-MODIFIED:20230605T130110Z
UID:14569-1700784000-1700956799@www.koenigsee-implantate.de
SUMMARY:39. Unfallmedizinische Tagung der DGUV
DESCRIPTION:39. Unfallmedizinische Tagung der DGUV
URL:https://www.koenigsee-implantate.de/weiterbildung/39-unfallmedizinische-tagung-der-dguv/
LOCATION:Baden-Baden
CATEGORIES:Termine
ATTACH;FMTTYPE=image/png:https://www.koenigsee-implantate.de/wp-content/uploads/2022/03/calendar.png
END:VEVENT
BEGIN:VEVENT
DTSTART;VALUE=DATE:20231129
DTEND;VALUE=DATE:20231202
DTSTAMP:20260422T121337
CREATED:20230605T130231Z
LAST-MODIFIED:20230605T130617Z
UID:14575-1701216000-1701475199@www.koenigsee-implantate.de
SUMMARY:18. Jahrestagung der Deutschen Wirbelsäulengesellschaft (DWG)
DESCRIPTION:18. Jahrestagung der Deutschen Wirbelsäulengesellschaft (DWG)
URL:https://www.koenigsee-implantate.de/weiterbildung/18-jahrestagung-der-deutschen-wirbelsaeulengesellschaft-dwg/
LOCATION:Stuttgart
CATEGORIES:Termine
ATTACH;FMTTYPE=image/png:https://www.koenigsee-implantate.de/wp-content/uploads/2022/03/calendar.png
END:VEVENT
END:VCALENDAR