BEGIN:VCALENDAR
VERSION:2.0
PRODID:-//Implantate aus Koenigsee - ECPv6.15.20//NONSGML v1.0//EN
CALSCALE:GREGORIAN
METHOD:PUBLISH
X-ORIGINAL-URL:https://www.koenigsee-implantate.de
X-WR-CALDESC:Veranstaltungen für Implantate aus Koenigsee
REFRESH-INTERVAL;VALUE=DURATION:PT1H
X-Robots-Tag:noindex
X-PUBLISHED-TTL:PT1H
BEGIN:VTIMEZONE
TZID:Europe/Berlin
BEGIN:DAYLIGHT
TZOFFSETFROM:+0100
TZOFFSETTO:+0200
TZNAME:CEST
DTSTART:20220327T010000
END:DAYLIGHT
BEGIN:STANDARD
TZOFFSETFROM:+0200
TZOFFSETTO:+0100
TZNAME:CET
DTSTART:20221030T010000
END:STANDARD
BEGIN:DAYLIGHT
TZOFFSETFROM:+0100
TZOFFSETTO:+0200
TZNAME:CEST
DTSTART:20230326T010000
END:DAYLIGHT
BEGIN:STANDARD
TZOFFSETFROM:+0200
TZOFFSETTO:+0100
TZNAME:CET
DTSTART:20231029T010000
END:STANDARD
BEGIN:DAYLIGHT
TZOFFSETFROM:+0100
TZOFFSETTO:+0200
TZNAME:CEST
DTSTART:20240331T010000
END:DAYLIGHT
BEGIN:STANDARD
TZOFFSETFROM:+0200
TZOFFSETTO:+0100
TZNAME:CET
DTSTART:20241027T010000
END:STANDARD
END:VTIMEZONE
BEGIN:VEVENT
DTSTART;VALUE=DATE:20230507
DTEND;VALUE=DATE:20230510
DTSTAMP:20260422T213936
CREATED:20230217T123816Z
LAST-MODIFIED:20230228T164834Z
UID:12985-1683417600-1683676799@www.koenigsee-implantate.de
SUMMARY:ECTES
DESCRIPTION:ECTES\n22nd European Congress of Trauma and Emergency Surgery\nestes congress
URL:https://www.koenigsee-implantate.de/weiterbildung/ectes/
LOCATION:Ljubljana\, Deutschland
CATEGORIES:Termine
ATTACH;FMTTYPE=image/png:https://www.koenigsee-implantate.de/wp-content/uploads/2022/03/calendar.png
END:VEVENT
BEGIN:VEVENT
DTSTART;VALUE=DATE:20230510
DTEND;VALUE=DATE:20230511
DTSTAMP:20260422T213936
CREATED:20230306T065848Z
LAST-MODIFIED:20230306T065914Z
UID:13384-1683676800-1683763199@www.koenigsee-implantate.de
SUMMARY:Netzwerktagung Wirbelsäule 2023
DESCRIPTION:Netzwerktagung Wirbelsäule 2023\nMetropolregion Nürnberg
URL:https://www.koenigsee-implantate.de/weiterbildung/netzwerktagung-wirbelsaeule-2023/
LOCATION:Nürnberg\, Deutschland
CATEGORIES:Termine
ATTACH;FMTTYPE=image/png:https://www.koenigsee-implantate.de/wp-content/uploads/2022/03/calendar.png
END:VEVENT
BEGIN:VEVENT
DTSTART;VALUE=DATE:20230519
DTEND;VALUE=DATE:20230521
DTSTAMP:20260422T213936
CREATED:20230306T071248Z
LAST-MODIFIED:20230306T071338Z
UID:13388-1684454400-1684627199@www.koenigsee-implantate.de
SUMMARY:Kongress für Kinder in Orthopädie und Unfallchirurgie
DESCRIPTION:Kongress für Kinder in Orthopädie und Unfallchirurgie
URL:https://www.koenigsee-implantate.de/weiterbildung/kongress-fuer-kinder-in-orthopaedie-und-unfallchirurgie/
LOCATION:Garmisch-Patenkirchen\, Garmisch-Patenkirchen
CATEGORIES:Termine
ATTACH;FMTTYPE=image/png:https://www.koenigsee-implantate.de/wp-content/uploads/2022/03/calendar.png
END:VEVENT
BEGIN:VEVENT
DTSTART;VALUE=DATE:20230524
DTEND;VALUE=DATE:20230527
DTSTAMP:20260422T213936
CREATED:20221121T065108Z
LAST-MODIFIED:20230228T164847Z
UID:10898-1684886400-1685145599@www.koenigsee-implantate.de
SUMMARY:EFORT Congress
DESCRIPTION:EFORT Congress
URL:https://www.koenigsee-implantate.de/weiterbildung/efort-congress/
LOCATION:Wien\, Deutschland
CATEGORIES:Termine
ATTACH;FMTTYPE=image/png:https://www.koenigsee-implantate.de/wp-content/uploads/2022/03/calendar.png
END:VEVENT
END:VCALENDAR