BEGIN:VCALENDAR
VERSION:2.0
PRODID:-//Implantate aus Koenigsee - ECPv6.15.20//NONSGML v1.0//EN
CALSCALE:GREGORIAN
METHOD:PUBLISH
X-ORIGINAL-URL:https://www.koenigsee-implantate.de
X-WR-CALDESC:Veranstaltungen für Implantate aus Koenigsee
REFRESH-INTERVAL;VALUE=DURATION:PT1H
X-Robots-Tag:noindex
X-PUBLISHED-TTL:PT1H
BEGIN:VTIMEZONE
TZID:Europe/Berlin
BEGIN:DAYLIGHT
TZOFFSETFROM:+0100
TZOFFSETTO:+0200
TZNAME:CEST
DTSTART:20210328T010000
END:DAYLIGHT
BEGIN:STANDARD
TZOFFSETFROM:+0200
TZOFFSETTO:+0100
TZNAME:CET
DTSTART:20211031T010000
END:STANDARD
BEGIN:DAYLIGHT
TZOFFSETFROM:+0100
TZOFFSETTO:+0200
TZNAME:CEST
DTSTART:20220327T010000
END:DAYLIGHT
BEGIN:STANDARD
TZOFFSETFROM:+0200
TZOFFSETTO:+0100
TZNAME:CET
DTSTART:20221030T010000
END:STANDARD
BEGIN:DAYLIGHT
TZOFFSETFROM:+0100
TZOFFSETTO:+0200
TZNAME:CEST
DTSTART:20230326T010000
END:DAYLIGHT
BEGIN:STANDARD
TZOFFSETFROM:+0200
TZOFFSETTO:+0100
TZNAME:CET
DTSTART:20231029T010000
END:STANDARD
END:VTIMEZONE
BEGIN:VEVENT
DTSTART;TZID=Europe/Berlin:20220325T080000
DTEND;TZID=Europe/Berlin:20220326T170000
DTSTAMP:20260426T022737
CREATED:20220308T110339Z
LAST-MODIFIED:20240328T094345Z
UID:6783-1648195200-1648314000@www.koenigsee-implantate.de
SUMMARY:Unfallmedizinische Tagung
DESCRIPTION:Unfallmedizinische Tagung mit den Themen \n\nSchultergürtel I + II\nHerausforderungen und Perspektiven für das D-Arztverfahren\nDigitalisierung in der Medizin\nFuß und Sprunggelenk\nInfekt und Defekt\n\n  \nWissenschaftliche Leitung \nProf. Dr. med. Frosch\, Hamburg\nProf. Dr. med. Dr. rer. nat. Hofmann\, Halle\nProf. Dr. med. Lill\, Hannover
URL:https://www.koenigsee-implantate.de/weiterbildung/unfallmedizinische-tagung/
LOCATION:Bremen\, Findorﬀstraße 101\, Bremen\, Bremen\, 28215
CATEGORIES:Termine
ATTACH;FMTTYPE=image/png:https://www.koenigsee-implantate.de/wp-content/uploads/2022/03/calendar.png
END:VEVENT
END:VCALENDAR