BEGIN:VCALENDAR
VERSION:2.0
PRODID:-//Implantate aus Koenigsee - ECPv6.15.20//NONSGML v1.0//EN
CALSCALE:GREGORIAN
METHOD:PUBLISH
X-ORIGINAL-URL:https://www.koenigsee-implantate.de
X-WR-CALDESC:Veranstaltungen für Implantate aus Koenigsee
REFRESH-INTERVAL;VALUE=DURATION:PT1H
X-Robots-Tag:noindex
X-PUBLISHED-TTL:PT1H
BEGIN:VTIMEZONE
TZID:Europe/Berlin
BEGIN:DAYLIGHT
TZOFFSETFROM:+0100
TZOFFSETTO:+0200
TZNAME:CEST
DTSTART:20250330T010000
END:DAYLIGHT
BEGIN:STANDARD
TZOFFSETFROM:+0200
TZOFFSETTO:+0100
TZNAME:CET
DTSTART:20251026T010000
END:STANDARD
BEGIN:DAYLIGHT
TZOFFSETFROM:+0100
TZOFFSETTO:+0200
TZNAME:CEST
DTSTART:20260329T010000
END:DAYLIGHT
BEGIN:STANDARD
TZOFFSETFROM:+0200
TZOFFSETTO:+0100
TZNAME:CET
DTSTART:20261025T010000
END:STANDARD
BEGIN:DAYLIGHT
TZOFFSETFROM:+0100
TZOFFSETTO:+0200
TZNAME:CEST
DTSTART:20270328T010000
END:DAYLIGHT
BEGIN:STANDARD
TZOFFSETFROM:+0200
TZOFFSETTO:+0100
TZNAME:CET
DTSTART:20271031T010000
END:STANDARD
END:VTIMEZONE
BEGIN:VEVENT
DTSTART;TZID=Europe/Berlin:20260509T100000
DTEND;TZID=Europe/Berlin:20260509T143000
DTSTAMP:20260422T023809
CREATED:20260420T092326Z
LAST-MODIFIED:20260420T093533Z
UID:36242-1778320800-1778337000@www.koenigsee-implantate.de
SUMMARY:Tag der offenen Tür Wirbelsäulenzentrum Wiesbaden
DESCRIPTION:Königsee Implantate nimmt am Tag der offenen Tür des Wirbelsäulenzentrums am St. Josefs-Hospital in Wiesbaden teil. Die Veranstaltung findet am Samstag\, 9. Mai\, von 9 bis 14 Uhr im Konferenzzentrum des JoHo\, Gebäude A\, Ebene 0\, statt. Eine Anmeldung ist nicht erforderlich. \nIm Rahmen der Veranstaltung erhalten Besucher einen verständlichen Einblick in moderne Wirbelsäulenchirurgie und aktuelle Medizintechnik. Von 10 bis 14 Uhr finden im Raum „Drei Schwestern“ Fachvorträge zu zentralen Themen der Wirbelsäulenbehandlung statt. Behandelt werden unter anderem minimal-invasive endoskopische Operationen bei Bandscheibenvorfällen und Spinalkanalstenosen der Lendenwirbelsäule\, operative und konservative Behandlungsoptionen bei Erkrankungen der Halswirbelsäule\, Wirbelgleiten an der Lendenwirbelsäule sowie der Einsatz spinaler Navigation in der Wirbelsäulenchirurgie. \nParallel dazu präsentieren Hersteller von 9 bis 14 Uhr im „Forum Bernhard von Langenbeck“ moderne Medizintechnik für die Wirbelsäulenchirurgie. Besucher können dort unterschiedliche Implantatsysteme für Eingriffe an Halswirbelsäule\, Brustwirbelsäule und Lendenwirbelsäule sowie Instrumente und Navigationstechniken kennenlernen. Ziel ist es\, Funktion\, Nutzen und Einsatzbereiche der verschiedenen Verfahren anschaulich und laienverständlich zu erläutern. \nKönigsee Implantate ist vor Ort vertreten und zeigt Lösungen für die Wirbelsäulenchirurgie im klinischen Anwendungskontext. Die Veranstaltung richtet sich an Patienten\, Interessierte und Besucher\, die sich über Behandlungsmöglichkeiten bei Wirbelsäulenerkrankungen\, operative Verfahren und unterstützende Medizintechnik informieren möchten. \nVeranstaltungsdaten im Überblick\nVeranstaltung: Tag der offenen Tür des WirbelsäulenzentrumsOrt: St. Josefs-Hospital Wiesbaden\, Konferenzzentrum JoHo\, Gebäude A\, Ebene 0Datum: Samstag\, 9. MaiUhrzeit: 9 bis 14 UhrAnmeldung: Nicht erforderlich
URL:https://www.koenigsee-implantate.de/weiterbildung/tag-der-offenen-tuer-wirbelsaeulenzentrum-wiesbaden/
LOCATION:Erfurt
CATEGORIES:Termine
ATTACH;FMTTYPE=image/png:https://www.koenigsee-implantate.de/wp-content/uploads/2022/03/calendar.png
END:VEVENT
END:VCALENDAR