BEGIN:VCALENDAR
VERSION:2.0
PRODID:-//Implantate aus Koenigsee - ECPv6.15.20//NONSGML v1.0//EN
CALSCALE:GREGORIAN
METHOD:PUBLISH
X-WR-CALNAME:Implantate aus Koenigsee
X-ORIGINAL-URL:https://www.koenigsee-implantate.de
X-WR-CALDESC:Veranstaltungen für Implantate aus Koenigsee
REFRESH-INTERVAL;VALUE=DURATION:PT1H
X-Robots-Tag:noindex
X-PUBLISHED-TTL:PT1H
BEGIN:VTIMEZONE
TZID:Europe/Berlin
BEGIN:DAYLIGHT
TZOFFSETFROM:+0100
TZOFFSETTO:+0200
TZNAME:CEST
DTSTART:20250330T010000
END:DAYLIGHT
BEGIN:STANDARD
TZOFFSETFROM:+0200
TZOFFSETTO:+0100
TZNAME:CET
DTSTART:20251026T010000
END:STANDARD
BEGIN:DAYLIGHT
TZOFFSETFROM:+0100
TZOFFSETTO:+0200
TZNAME:CEST
DTSTART:20260329T010000
END:DAYLIGHT
BEGIN:STANDARD
TZOFFSETFROM:+0200
TZOFFSETTO:+0100
TZNAME:CET
DTSTART:20261025T010000
END:STANDARD
BEGIN:DAYLIGHT
TZOFFSETFROM:+0100
TZOFFSETTO:+0200
TZNAME:CEST
DTSTART:20270328T010000
END:DAYLIGHT
BEGIN:STANDARD
TZOFFSETFROM:+0200
TZOFFSETTO:+0100
TZNAME:CET
DTSTART:20271031T010000
END:STANDARD
END:VTIMEZONE
BEGIN:VEVENT
DTSTART;VALUE=DATE:20260904
DTEND;VALUE=DATE:20260906
DTSTAMP:20260422T140228
CREATED:20250804T122020Z
LAST-MODIFIED:20260420T114806Z
UID:22404-1788480000-1788652799@www.koenigsee-implantate.de
SUMMARY:inKontakt - Ausbildungs- und Fachkräftemesse
DESCRIPTION:Königsee Implantate nimmt an der inKontakt 2026 in Rudolstadt teil. Die Veranstaltung „inKontakt – Leben | Arbeiten | Wohnen“ findet am Samstag\, 18. April 2026\, im Innovations- und Gründerzentrum Rudolstadt statt. Die Messe richtet sich an Pendler\, Rückkehrer und weitere Interessierte\, die sich über berufliche Perspektiven\, Wohnen\, Kinderbetreuung\, Freizeit\, Kultur\, Sport und Vereinsleben in der Region Saalfeld-Rudolstadt informieren möchten. \nAuf der offiziellen Messeinfo heißt es\, dass auf der inKontakt im IGZ Rudolstadt Unternehmen und öffentliche Institutionen vertreten sind. Besucher erhalten dort Einblicke in regionale Arbeitgeber\, konkrete Perspektiven für das Leben und Arbeiten in der Region sowie Zugang zu aktuellen Jobangeboten der ausstellenden Unternehmen. Die Messe ist damit klar als regionale Kontaktplattform für Arbeitgeber\, Fachkräfte und Rückkehrinteressierte positioniert. \nFür eure Veranstaltungswebsite ist vor allem relevant\, dass die Seite Veranstaltungsname\, Datum\, Ort und Zielsetzung klar nennt. Königsee Implantate ist vor Ort vertreten und nutzt die inKontakt 2026 als Plattform für Austausch\, Sichtbarkeit und persönliche Gespräche im regionalen Umfeld. Diese Einordnung ist für Suchmaschinen und KI-Systeme gut verwertbar\, weil der Zweck der Veranstaltung eindeutig beschrieben ist. Die offizielle Ausstellerseite nennt für die Messe im IGZ Rudolstadt zahlreiche ausstellende Organisationen und verweist auf eine alphabetische Ausstellerübersicht. \nZusätzlich relevant ist\, dass laut Ausstellerinformation die Messe um 9:45 Uhr eröffnet wird\, die Besucherzeit von 10:00 Uhr bis 15:00 Uhr läuft und WLAN zur Verfügung steht. Diese Angaben sind nicht zwingend für den Seitentitel\, aber hilfreich für einen vollständigen Eventeintrag. \nVeranstaltungsdaten im Überblick\nVeranstaltung: inKontakt – Leben | Arbeiten | WohnenDatum: Samstag\, 18. April 2026Ort: Innovations- und Gründerzentrum Rudolstadt\, IGZ RudolstadtÖffnungszeit für Besucher: 10:00 Uhr bis 15:00 UhrEintritt: kostenfreiVeranstalter: Wirtschaftsförderagentur Region Saalfeld-Rudolstadt
URL:https://www.koenigsee-implantate.de/weiterbildung/inkontakt-messe-bad-blan/
LOCATION:Bad Blankenburg
CATEGORIES:Termine
ATTACH;FMTTYPE=image/png:https://www.koenigsee-implantate.de/wp-content/uploads/2022/03/calendar.png
END:VEVENT
END:VCALENDAR