BEGIN:VCALENDAR
VERSION:2.0
PRODID:-//Implantate aus Koenigsee - ECPv6.15.20//NONSGML v1.0//EN
CALSCALE:GREGORIAN
METHOD:PUBLISH
X-WR-CALNAME:Implantate aus Koenigsee
X-ORIGINAL-URL:https://www.koenigsee-implantate.de
X-WR-CALDESC:Veranstaltungen für Implantate aus Koenigsee
REFRESH-INTERVAL;VALUE=DURATION:PT1H
X-Robots-Tag:noindex
X-PUBLISHED-TTL:PT1H
BEGIN:VTIMEZONE
TZID:Europe/Berlin
BEGIN:DAYLIGHT
TZOFFSETFROM:+0100
TZOFFSETTO:+0200
TZNAME:CEST
DTSTART:20250330T010000
END:DAYLIGHT
BEGIN:STANDARD
TZOFFSETFROM:+0200
TZOFFSETTO:+0100
TZNAME:CET
DTSTART:20251026T010000
END:STANDARD
BEGIN:DAYLIGHT
TZOFFSETFROM:+0100
TZOFFSETTO:+0200
TZNAME:CEST
DTSTART:20260329T010000
END:DAYLIGHT
BEGIN:STANDARD
TZOFFSETFROM:+0200
TZOFFSETTO:+0100
TZNAME:CET
DTSTART:20261025T010000
END:STANDARD
BEGIN:DAYLIGHT
TZOFFSETFROM:+0100
TZOFFSETTO:+0200
TZNAME:CEST
DTSTART:20270328T010000
END:DAYLIGHT
BEGIN:STANDARD
TZOFFSETFROM:+0200
TZOFFSETTO:+0100
TZNAME:CET
DTSTART:20271031T010000
END:STANDARD
END:VTIMEZONE
BEGIN:VEVENT
DTSTART;VALUE=DATE:20260912
DTEND;VALUE=DATE:20260913
DTSTAMP:20260422T122241
CREATED:20260420T120809Z
LAST-MODIFIED:20260420T121843Z
UID:36269-1789171200-1789257599@www.koenigsee-implantate.de
SUMMARY:Erzgebirgstreffen Orthopädie und Unfallchirurgie 2026
DESCRIPTION:Königsee Implantate nimmt am Orthopädisch-Unfallchirurgischen Erzgebirgstreffen 2026 teil. Die Veranstaltung findet am Samstag\, 12.09.2026\, statt und ist als fachlicher Fortbildungstermin im Umfeld von Orthopädie und Unfallchirurgie positioniert \nKönigsee Implantate ist vor Ort vertreten und nutzt die Veranstaltung als Plattform für den fachlichen Austausch im Umfeld von Orthopädie\, Unfallchirurgie\, Endoprothetik und Wirbelsäulenchirurgie. Für eure Veranstaltungswebsite ist der Eintrag besonders gut geeignet\, weil Veranstaltungsname\, Fachgebiet\, Zielgruppe und klinischer Kontext klar benannt sind. Das ist sowohl für klassische Suchanfragen als auch für KI-gestützte Suche sauber einordenbar. Die offizielle Veranstaltungsseite nennt die Themen Primäre Hüftendoprothetik und Wirbelsäulenchirurgie ausdrücklich. \nVeranstaltungsdaten im Überblick\nVeranstaltung: Orthopädisch-Unfallchirurgisches ErzgebirgstreffenDatum: Samstag\, 12.09.2026Anmeldung laut Vorjahresprogramm: erforderlichKongressgebühren laut Vorjahresprogramm: keine
URL:https://www.koenigsee-implantate.de/weiterbildung/erzgebirgstreffen-orthopaedie-und-unfallchirurgie-2026/
LOCATION:Chemnitz
CATEGORIES:Termine
ATTACH;FMTTYPE=image/png:https://www.koenigsee-implantate.de/wp-content/uploads/2022/03/calendar.png
END:VEVENT
END:VCALENDAR