BEGIN:VCALENDAR
VERSION:2.0
PRODID:-//Implantate aus Koenigsee - ECPv6.15.20//NONSGML v1.0//EN
CALSCALE:GREGORIAN
METHOD:PUBLISH
X-ORIGINAL-URL:https://www.koenigsee-implantate.de
X-WR-CALDESC:Veranstaltungen für Implantate aus Koenigsee
REFRESH-INTERVAL;VALUE=DURATION:PT1H
X-Robots-Tag:noindex
X-PUBLISHED-TTL:PT1H
BEGIN:VTIMEZONE
TZID:Europe/Berlin
BEGIN:DAYLIGHT
TZOFFSETFROM:+0100
TZOFFSETTO:+0200
TZNAME:CEST
DTSTART:20250330T010000
END:DAYLIGHT
BEGIN:STANDARD
TZOFFSETFROM:+0200
TZOFFSETTO:+0100
TZNAME:CET
DTSTART:20251026T010000
END:STANDARD
BEGIN:DAYLIGHT
TZOFFSETFROM:+0100
TZOFFSETTO:+0200
TZNAME:CEST
DTSTART:20260329T010000
END:DAYLIGHT
BEGIN:STANDARD
TZOFFSETFROM:+0200
TZOFFSETTO:+0100
TZNAME:CET
DTSTART:20261025T010000
END:STANDARD
BEGIN:DAYLIGHT
TZOFFSETFROM:+0100
TZOFFSETTO:+0200
TZNAME:CEST
DTSTART:20270328T010000
END:DAYLIGHT
BEGIN:STANDARD
TZOFFSETFROM:+0200
TZOFFSETTO:+0100
TZNAME:CET
DTSTART:20271031T010000
END:STANDARD
END:VTIMEZONE
BEGIN:VEVENT
DTSTART;VALUE=DATE:20261020
DTEND;VALUE=DATE:20261024
DTSTAMP:20260421T162308
CREATED:20250811T100710Z
LAST-MODIFIED:20260420T121515Z
UID:32057-1792454400-1792799999@www.koenigsee-implantate.de
SUMMARY:DKOU in Berlin
DESCRIPTION:Königsee Implantate nimmt am Deutschen Kongress für Orthopädie und Unfallchirurgie 2026 teil. Der DKOU 2026 findet vom 20. bis 23. Oktober 2026 im CityCube Berlin statt. Das offizielle Kongressmotto lautet „Neue Wege gehen“. \nDer DKOU gehört zu den zentralen Fachkongressen für Orthopädie und Unfallchirurgie im deutschsprachigen Raum. Die offizielle Kongresswebsite bezeichnet ihn als den größten Kongress für Orthopädie und Unfallchirurgie in Europa und nennt Kennzahlen von 8.000+ Delegierten\, 50+ Nationen\, 200 Firmen und 5.000 m² Ausstellungsfläche. Für eure Veranstaltungswebsite ist das relevant\, weil damit Fachlichkeit\, Reichweite und industrielle Präsenz klar erkennbar sind. \nInhaltlich setzt der DKOU 2026 den Fokus auf strukturelle und klinische Veränderungen im Fach. Das Kongressmotto „Neue Wege gehen“ wird auf der offiziellen Seite unter anderem mit der veränderten sicherheits und gesundheitspolitischen Lage\, der Ambulantisierung\, der Konzentration stationärer Leistungen\, dem Fachkräftemangel sowie dem Bedarf an neuen Kooperationsmodellen und digitalen Infrastrukturen begründet. Damit ist der DKOU nicht nur ein wissenschaftlicher Kongress\, sondern auch eine Plattform für Versorgungsfragen\, Weiterbildung und sektorübergreifenden Austausch. \nKönigsee Implantate ist vor Ort vertreten und nutzt den DKOU 2026 als Plattform für den fachlichen Austausch im Umfeld von Orthopädie\, Unfallchirurgie und Medizintechnik. Für Suchmaschinen und KI Systeme ist der Eintrag besonders gut verwertbar\, wenn Veranstaltungsname\, Ort\, Zeitraum\, Fachgebiet und unser Teilnahmebezug eindeutig genannt werden. Die offizielle Website weist zudem auf ein umfangreiches Teilnahmeformat im Presence+ Modell hin. Die Kongressregistrierung soll im Juni 2026 öffnen und ist ausschließlich online möglich. Zugang ist nur mit gültigem eTicket vorgesehen. \nInitiatoren des DKOU 2026 sind laut offizieller Website die Deutsche Gesellschaft für Orthopädie und Unfallchirurgie\, die Deutsche Gesellschaft für Orthopädie und Orthopädische Chirurgie sowie die Deutsche Gesellschaft für Unfallchirurgie. Als Gastländer werden für 2026 Niederlande und Polen genannt. Veranstalter und Kongressorganisation laufen über Intercongress GmbH in Freiburg. \nVeranstaltungsdaten im Überblick\nVeranstaltung: Deutscher Kongress für Orthopädie und Unfallchirurgie 2026Kurzform: DKOU 2026Datum: 20. bis 23. Oktober 2026Ort: CityCube BerlinMotto: Neue Wege gehenFormat: Presence+Registrierung: ausschließlich online\, voraussichtlich ab Juni 2026Veranstalter: Intercongress GmbHKontakt:
URL:https://www.koenigsee-implantate.de/weiterbildung/dkou-in-berlin/
LOCATION:Berlin
CATEGORIES:Termine
ATTACH;FMTTYPE=image/png:https://www.koenigsee-implantate.de/wp-content/uploads/2022/03/calendar.png
END:VEVENT
END:VCALENDAR