BEGIN:VCALENDAR
VERSION:2.0
PRODID:-//Implantate aus Koenigsee - ECPv6.15.20//NONSGML v1.0//EN
CALSCALE:GREGORIAN
METHOD:PUBLISH
X-WR-CALNAME:Implantate aus Koenigsee
X-ORIGINAL-URL:https://www.koenigsee-implantate.de/es/
X-WR-CALDESC:Eventos para Implantate aus Koenigsee
REFRESH-INTERVAL;VALUE=DURATION:PT1H
X-Robots-Tag:noindex
X-PUBLISHED-TTL:PT1H
BEGIN:VTIMEZONE
TZID:Europe/Berlin
BEGIN:DAYLIGHT
TZOFFSETFROM:+0100
TZOFFSETTO:+0200
TZNAME:CEST
DTSTART:20250330T010000
END:DAYLIGHT
BEGIN:STANDARD
TZOFFSETFROM:+0200
TZOFFSETTO:+0100
TZNAME:CET
DTSTART:20251026T010000
END:STANDARD
BEGIN:DAYLIGHT
TZOFFSETFROM:+0100
TZOFFSETTO:+0200
TZNAME:CEST
DTSTART:20260329T010000
END:DAYLIGHT
BEGIN:STANDARD
TZOFFSETFROM:+0200
TZOFFSETTO:+0100
TZNAME:CET
DTSTART:20261025T010000
END:STANDARD
BEGIN:DAYLIGHT
TZOFFSETFROM:+0100
TZOFFSETTO:+0200
TZNAME:CEST
DTSTART:20270328T010000
END:DAYLIGHT
BEGIN:STANDARD
TZOFFSETFROM:+0200
TZOFFSETTO:+0100
TZNAME:CET
DTSTART:20271031T010000
END:STANDARD
END:VTIMEZONE
BEGIN:VEVENT
DTSTART;VALUE=DATE:20261116
DTEND;VALUE=DATE:20261120
DTSTAMP:20260422T234907
CREATED:20250811T111323Z
LAST-MODIFIED:20260416T110543Z
UID:36204-1794787200-1795132799@www.koenigsee-implantate.de
SUMMARY:Medica 2026
DESCRIPTION:MEDICA 2026 se celebrará del 16 al 19 de noviembre en Düsseldorf y es una de las ferias especializadas más destacadas del sector sanitario mundial. Con más de 5000 expositores de más de 72 países y alrededor de 80 000 visitantes profesionales\, ofrece una amplia gama de innovaciones en los ámbitos de la imagen médica\, la tecnología de laboratorio y diagnóstico\, las tecnologías de la información sanitaria\, la salud móvil\, la fisioterapia y la tecnología ortopédica\, así como los consumibles médicos. La feria se complementa con foros\, conferencias\, exposiciones especiales\, presentaciones de productos y entregas de premios de primer nivel\, que crean un espacio para la inspiración\, el intercambio profesional y las tendencias futuras.
URL:https://www.koenigsee-implantate.de/es/weiterbildung/medica-2026/
LOCATION:Düsseldorf
CATEGORIES:Eventos
ATTACH;FMTTYPE=image/png:https://www.koenigsee-implantate.de/wp-content/uploads/2022/03/calendar.png
END:VEVENT
END:VCALENDAR